BEGIN:VCALENDAR
PRODID:http://www.kufer.de/kuferweb / DE
VERSION:2.0
METHOD:PUBLISH
CALSCALE:GREGORIAN
X-WR-TIMEZONE:Europe/Berlin
BEGIN:VTIMEZONE
TZID:Europe/Berlin
X-LIC-LOCATION:Europe/Berlin
BEGIN:DAYLIGHT
TZOFFSETFROM:+0100
TZOFFSETTO:+0200
TZNAME:CEST
DTSTART;TZID=Europe/Berlin:19700329T020000
RRULE:FREQ=YEARLY;INTERVAL=1;BYDAY=-1SU;BYMONTH=3
END:DAYLIGHT
BEGIN:STANDARD
TZOFFSETFROM:+0200
TZOFFSETTO:+0100
TZNAME:CET
DTSTART;TZID=Europe/Berlin:19701025T030000
RRULE:FREQ=YEARLY;INTERVAL=1;BYDAY=-1SU;BYMONTH=10
END:STANDARD
END:VTIMEZONE
BEGIN:VEVENT
DTSTAMP:20260421T133307
DTSTART;TZID=Europe/Berlin:20260629T100000
DTEND;TZID=Europe/Berlin:20260629T163000
UID:26A591711-20260629T100000@KVHSNORDEN
SUMMARY:DWA I/II/III - Praxis der Abwasserbehandlung und Laboranalytik (26A591711) 
LOCATION:Telematikzentrum Norden, Rheinstr. 13, 26506 Norden
END:VEVENT
BEGIN:VEVENT
DTSTAMP:20260421T133307
DTSTART;TZID=Europe/Berlin:20260630T083000
DTEND;TZID=Europe/Berlin:20260630T163000
UID:26A591711-20260630T083000@KVHSNORDEN
SUMMARY:DWA I/II/III - Praxis der Abwasserbehandlung und Laboranalytik (26A591711) 
LOCATION:Telematikzentrum Norden, Rheinstr. 13, 26506 Norden
END:VEVENT
BEGIN:VEVENT
DTSTAMP:20260421T133307
DTSTART;TZID=Europe/Berlin:20260701T083000
DTEND;TZID=Europe/Berlin:20260701T163000
UID:26A591711-20260701T083000@KVHSNORDEN
SUMMARY:DWA I/II/III - Praxis der Abwasserbehandlung und Laboranalytik (26A591711) 
LOCATION:Telematikzentrum Norden, Rheinstr. 13, 26506 Norden
END:VEVENT
BEGIN:VEVENT
DTSTAMP:20260421T133307
DTSTART;TZID=Europe/Berlin:20260702T083000
DTEND;TZID=Europe/Berlin:20260702T163000
UID:26A591711-20260702T083000@KVHSNORDEN
SUMMARY:DWA I/II/III - Praxis der Abwasserbehandlung und Laboranalytik (26A591711) 
LOCATION:Telematikzentrum Norden, Rheinstr. 13, 26506 Norden
END:VEVENT
BEGIN:VEVENT
DTSTAMP:20260421T133307
DTSTART;TZID=Europe/Berlin:20260703T083000
DTEND;TZID=Europe/Berlin:20260703T120000
UID:26A591711-20260703T083000@KVHSNORDEN
SUMMARY:DWA I/II/III - Praxis der Abwasserbehandlung und Laboranalytik (26A591711) 
LOCATION:Telematikzentrum Norden, Rheinstr. 13, 26506 Norden
END:VEVENT
END:VCALENDAR