BEGIN:VCALENDAR
PRODID:http://www.kufer.de/kuferweb / DE
VERSION:2.0
METHOD:PUBLISH
CALSCALE:GREGORIAN
X-WR-TIMEZONE:Europe/Berlin
BEGIN:VTIMEZONE
TZID:Europe/Berlin
X-LIC-LOCATION:Europe/Berlin
BEGIN:DAYLIGHT
TZOFFSETFROM:+0100
TZOFFSETTO:+0200
TZNAME:CEST
DTSTART;TZID=Europe/Berlin:19700329T020000
RRULE:FREQ=YEARLY;INTERVAL=1;BYDAY=-1SU;BYMONTH=3
END:DAYLIGHT
BEGIN:STANDARD
TZOFFSETFROM:+0200
TZOFFSETTO:+0100
TZNAME:CET
DTSTART;TZID=Europe/Berlin:19701025T030000
RRULE:FREQ=YEARLY;INTERVAL=1;BYDAY=-1SU;BYMONTH=10
END:STANDARD
END:VTIMEZONE
BEGIN:VEVENT
DTSTAMP:20260421T144515
DTSTART;TZID=Europe/Berlin:20260610T100000
DTEND;TZID=Europe/Berlin:20260610T163000
UID:26A591716-20260610T100000@KVHSNORDEN
SUMMARY:Schlammbehandlung: Verfahren der Schlammfaulung (26A591716) 
LOCATION:Telematikzentrum Norden, Rheinstr. 13, 26506 Norden
END:VEVENT
BEGIN:VEVENT
DTSTAMP:20260421T144515
DTSTART;TZID=Europe/Berlin:20260611T083000
DTEND;TZID=Europe/Berlin:20260611T163000
UID:26A591716-20260611T083000@KVHSNORDEN
SUMMARY:Schlammbehandlung: Verfahren der Schlammfaulung (26A591716) 
LOCATION:Telematikzentrum Norden, Rheinstr. 13, 26506 Norden
END:VEVENT
END:VCALENDAR